BEGIN:VCALENDAR
VERSION:2.0
PRODID:-//Boston Children - ECPv6.15.12.2//NONSGML v1.0//EN
CALSCALE:GREGORIAN
METHOD:PUBLISH
X-WR-CALNAME:Boston Children
X-ORIGINAL-URL:https://jobs.bostonchildrens.org
X-WR-CALDESC:Events for Boston Children
REFRESH-INTERVAL;VALUE=DURATION:PT1H
X-Robots-Tag:noindex
X-PUBLISHED-TTL:PT1H
BEGIN:VTIMEZONE
TZID:America/New_York
BEGIN:DAYLIGHT
TZOFFSETFROM:-0500
TZOFFSETTO:-0400
TZNAME:EDT
DTSTART:20250309T070000
END:DAYLIGHT
BEGIN:STANDARD
TZOFFSETFROM:-0400
TZOFFSETTO:-0500
TZNAME:EST
DTSTART:20251102T060000
END:STANDARD
BEGIN:DAYLIGHT
TZOFFSETFROM:-0500
TZOFFSETTO:-0400
TZNAME:EDT
DTSTART:20260308T070000
END:DAYLIGHT
BEGIN:STANDARD
TZOFFSETFROM:-0400
TZOFFSETTO:-0500
TZNAME:EST
DTSTART:20261101T060000
END:STANDARD
BEGIN:DAYLIGHT
TZOFFSETFROM:-0500
TZOFFSETTO:-0400
TZNAME:EDT
DTSTART:20270314T070000
END:DAYLIGHT
BEGIN:STANDARD
TZOFFSETFROM:-0400
TZOFFSETTO:-0500
TZNAME:EST
DTSTART:20271107T060000
END:STANDARD
END:VTIMEZONE
BEGIN:VEVENT
DTSTART;TZID=America/New_York:20260123T090000
DTEND;TZID=America/New_York:20260123T140000
DTSTAMP:20260423T190428
CREATED:20260114T213707Z
LAST-MODIFIED:20260114T213707Z
UID:5403-1769158800-1769176800@jobs.bostonchildrens.org
SUMMARY:LGBTQ+ Job Fair - Massachusetts Chamber of Commerce
DESCRIPTION:The Massachusetts LGBT Chamber of Commerce (MALGBTCC) is hosting the LGBTQ+ Job Fair on Friday\, January 23\, 2026. This job fair is a part of First Event\, one of the longest running conferences in the U.S. for transgender and gender expansive people and those who love and support them. First Event is held annually in the Boston area and is hosted by TCNE – Trans Community of New England & First Event. \nThis registration will provide as access to contact participants of all gender identities to receive job updates from Boston Children’s Hospital Talent Acquisition Department.  \nRegister
URL:https://jobs.bostonchildrens.org/event/lgbtq-job-fair-massachusetts-chamber-of-commerce/
LOCATION:Boston Park Plaza Hotel\, 50 Park Plaza\, Boston\, Massachusetts\, 02116\, United States
END:VEVENT
BEGIN:VEVENT
DTSTART;TZID=America/New_York:20260211T070000
DTEND;TZID=America/New_York:20260211T130000
DTSTAMP:20260423T190428
CREATED:20260205T155435Z
LAST-MODIFIED:20260205T155435Z
UID:5417-1770793200-1770814800@jobs.bostonchildrens.org
SUMMARY:Imaging Tech Virtual Hiring Event
DESCRIPTION:Ready to advance your imaging skills? Join the Boston Children’s Hospital Radiology Department for a virtual hiring event sponsored by Indeed.  \nAt this event\, you will have a 1:1 conversation with our TA reps working to fill a variety of specialized imaging roles across Greater Boston.  \n-Radiographers \n-CT Technologists \n-MRI Technologists \n-Nuclear Medicine Technologists \n-Sonographers (MFM/Cardiac) \nNew Hires may be eligible for a sign on bonus up to $15\,000  \nRegister
URL:https://jobs.bostonchildrens.org/event/imaging-tech-virtual-hiring-event/
LOCATION:District of Columbia
END:VEVENT
BEGIN:VEVENT
DTSTART;TZID=America/New_York:20260223T170000
DTEND;TZID=America/New_York:20260226T190000
DTSTAMP:20260423T190428
CREATED:20260130T160941Z
LAST-MODIFIED:20260130T160941Z
UID:5349-1771866000-1772132400@jobs.bostonchildrens.org
SUMMARY:Research Recruitment Week 2026
DESCRIPTION:Boston Children’s Hospital\, named the #1 pediatric hospital in the U.S. by Newsweek\, is excited to host its 2026 Research Recruitment Week\, held February 23rd\, 2026 – February 26th\, 2026.  \nResearch Recruitment Week is an annual\, invite-only event that gives upcoming graduates the opportunity to meet directly with hiring managers and principal investigators across Boston Children’s Hospital’s research community. Participants are hand-selected based on their academic achievements\, interests\, and potential fit for research roles\, and invited to join either the in-person Networking Day or the virtual Networking Days.  \nEvent Overview:  \nMonday\, February 23rd\, 2026 | 5:00PM–6:00 PM EST – Opening Panel \nThe week begins with a virtual Opening Panel featuring insights and career journeys from distinguished researchers across Boston Children’s Hospital. All invited candidates—whether attending virtual or in-person networking days—are welcome to join. \nFeatured Panelist include:  \nSuneet Agarwal\, MD\, PHD  \n\nCo-Program Leader for the Stem Cell Transplant Center\, Dana Farber/Boston Children’s Cancer and Blood Disorders Center\nAssociate Professor of Pediatrics\, Harvard Medical School\nTeam Focus: The Agarwal Lab focuses on inherited and acquired genetic blood disorders. Dr. Suneet Agarwal’s work centers especially on disorders of telomere biology\, mitochondrial DNA disorders\, and bone marrow failure syndromes.\n\nCarolyn King\, MPH \n\nResearch Program Manager\, Division of General Pediatrics\nRepresenting General Pediatrics Research Program and Primary Care. Research and Quality Improvement topics include (but not limited to): Patient experience and safety\, healthcare quality\, care delivery for children with medical and social complexity\, population-level studies of environmental health\, social determinants of health in a primary care setting\, and social needs screening during hospitalizations.\n\nTuesday\, February 24th | 4:00PM–7:00 PM EST – In-Person Networking Day \nCandidates selected for the in-person session will visit our campus to meet directly with hiring managers\, principal investigators\, and current research staff. This day is designed to help participants explore roles\, learn about active research projects\, and make meaningful\, face-to-face connections. Please note that candidates invited to the in-person event must be able to travel to Boston Children’s Hospital at their own expense\, as travel accommodation is not provided. \nWednesday\, February 25th & Thursday\, February 26th | 4:00PM–7:00 PM EST – Virtual Networking Days \nCandidates invited to the virtual sessions will have the same opportunity as those attending the in-person Networking Day to meet directly with hiring managers\, principal investigators\, and current research staff—just in a remote\, online format. \n* Please note that the specific BCH staff and teams available for meetings may vary between the in-person and virtual sessions based on their availability. \nTo be considered for attendance\, you must: \n\nBe a recent or upcoming graduate in Winter 2025\, Spring 2026 or Summer 2026.\nReceiving a BA/BS in Biology\, Chemistry\, Neuroscience\, Life Sciences\, Health Sciences\, Social Sciences\, or a related field.\nInterest in working in Bench/Wet lab and/or Clinical Research. Prior experience is highly preferred.\n\nThe registration window to be considered for this event closed Friday\, January 30th\, 2026.  \nWe encourage students to join out Talent Community to stay up to date with entry level research openings. \nIf you have issues completing the form\, please email careers@childrens.harvard.edu \, with the subject line: RRW Interest Form Issue.  \n  \nRegister
URL:https://jobs.bostonchildrens.org/event/research-recruitment-week-2026/
LOCATION:Boston Children’s Hospital\, Boston\, Boston\, Massachusetts\, United States
END:VEVENT
BEGIN:VEVENT
DTSTART;TZID=America/New_York:20260303T080000
DTEND;TZID=America/New_York:20260303T160000
DTSTAMP:20260423T190428
CREATED:20260220T210019Z
LAST-MODIFIED:20260220T210019Z
UID:5422-1772524800-1772553600@jobs.bostonchildrens.org
SUMMARY:RISRC Healthcare Professionals Conference
DESCRIPTION:Boston Children’s Hospital Talent Acquisition is proud to sponsor the Rhode Island Respiratory Care Association’s Conference for Healthcare Professionals.  \nSenior Director of Respiratory Care and ECMO\, Jess Lenox will be attending to speak and network with Respiratory Therapist prospects.  \nNow Offering $20\,000 Sign on Bonus for qualified therapists. See our current openings here – Boston Children’s | Job Search Results \n  \nRegister
URL:https://jobs.bostonchildrens.org/event/risrc-healthcare-professionals-conference/
LOCATION:Crowne Plaza Hotel\, Warwick\, Warwick\, Rhode Island\, United States
END:VEVENT
BEGIN:VEVENT
DTSTART;TZID=America/New_York:20260318T080000
DTEND;TZID=America/New_York:20260321T150000
DTSTAMP:20260423T190428
CREATED:20260306T205612Z
LAST-MODIFIED:20260306T205612Z
UID:5441-1773820800-1774105200@jobs.bostonchildrens.org
SUMMARY:Pediatric Nurse Practitioner Association National Conference (NAPNAP)
DESCRIPTION:Join the Boston Children’s Hospital APP Talent Team at our booth to learn more about our APRN Float Pool and Full-time provider opportunities.  \nRegister for details on earning up to $20\,000 in sign on and retention bonuses.  \nRegister
URL:https://jobs.bostonchildrens.org/event/pediatric-nurse-practitioner-association-national-conference-napnap/
LOCATION:David L. Lawrence Convention Center\, Pittsburgh\, Pittsburgh\, Pennsylvania\, United States
END:VEVENT
BEGIN:VEVENT
DTSTART;TZID=America/New_York:20260324T120000
DTEND;TZID=America/New_York:20260324T133000
DTSTAMP:20260423T190428
CREATED:20260317T204121Z
LAST-MODIFIED:20260317T204121Z
UID:5464-1774353600-1774359000@jobs.bostonchildrens.org
SUMMARY:Nursing Spotlight @ Emmanuel College
DESCRIPTION:A member of the nursing recruitment team will be available to answer questions about new graduate opportunities for BSN graduates through our Transition to Nurse Practice Residency and available clinical assistant roles for current students. \nRegistration confirms interest in future communications from Boston Children’s Hospital Talent Acquisition team. \nRegister
URL:https://jobs.bostonchildrens.org/event/nursing-spotlight-emanuel-college/
LOCATION:Emmanuel College\, Boston\, Boston\, United States
END:VEVENT
BEGIN:VEVENT
DTSTART;TZID=America/New_York:20260324T120000
DTEND;TZID=America/New_York:20260324T160000
DTSTAMP:20260423T190428
CREATED:20260317T202314Z
LAST-MODIFIED:20260317T202314Z
UID:5460-1774353600-1774368000@jobs.bostonchildrens.org
SUMMARY:Virtual Hiring Event - Respiratory Therapists
DESCRIPTION:Our team is hosting a Respiratory Therapy Virtual Interview Event on Tuesday\, March 24\, 2026\, from 12:00–4:00 PM ET for opportunities at our Boston (Longwood) location. \nWe’re currently looking to connect with talented professionals for the following roles:• Respiratory Therapist• ECMO Specialist• ECMO Educator \nEligible new hires may receive a sign-on bonus of up to $20\,000. Relocation provided to non-local candidates  \nThis is a great opportunity to speak directly with our hiring team\, learn more about our Respiratory Care and ECMO programs\, and explore current openings at Boston Children’s Hospital.  \nRegister
URL:https://jobs.bostonchildrens.org/event/virtual-hiring-event-respiratory-therapists/
LOCATION:District of Columbia
END:VEVENT
BEGIN:VEVENT
DTSTART;TZID=America/New_York:20260410T083000
DTEND;TZID=America/New_York:20260410T153000
DTSTAMP:20260423T190428
CREATED:20260324T155020Z
LAST-MODIFIED:20260324T155020Z
UID:5479-1775809800-1775835000@jobs.bostonchildrens.org
SUMMARY:Massachusetts Society of Radiologic Technologists Annual Conference
DESCRIPTION:Boston Children’s Hospital is proud to sponsor the MSRT Annual Conference. Our Radiologic Tech recruiter is available to answer questions about employment across modalities and locations.  \nSee openings here  \nSenior Radiologic Technologist\, Sign on bonus Boston \nSenior Radiologic Technologist\, Sign on bonus Needham \nSenior Radiologic Technologist\, Sign on bonus Weymouth \nMFM Senior Sonographer\, Sign-on Bonus Boston \nCV MRI Technologist Boston \nSonographer\, Sign on bonus Boston \n  \nRegister
URL:https://jobs.bostonchildrens.org/event/massachusetts-society-of-radiologic-technologists-annual-conference/
LOCATION:Hilton Garden Inn – Canton\, 110 Royall St\, Canton\, Massachusetts\, 02021\, United States
END:VEVENT
BEGIN:VEVENT
DTSTART;TZID=America/New_York:20260411T080000
DTEND;TZID=America/New_York:20260414T150000
DTSTAMP:20260423T190428
CREATED:20260324T194339Z
LAST-MODIFIED:20260324T194339Z
UID:5484-1775894400-1776178800@jobs.bostonchildrens.org
SUMMARY:AORN Expo 2026
DESCRIPTION:Boston Children’s Hospital is proud to support the AORN Annual Conference and Expo. Visit booth 1059 to meet our nurse recruiter and OR nurses and clinical leaders. \nCurrent Openings included below: \nRegistered Nurse\, Main Operating Room ($20\,000 sign-on) Boston \nPer Diem Registered Nurse – Waltham Operating Room \nRegister
URL:https://jobs.bostonchildrens.org/event/aorn-expo-2026/
LOCATION:New Orleans Ernest N. Morial Convention Center\, 900 Convention Center Blvd\, New Orleans\, Louisiana\, 70130\, United States
END:VEVENT
BEGIN:VEVENT
DTSTART;TZID=America/New_York:20260424T080000
DTEND;TZID=America/New_York:20260424T153000
DTSTAMP:20260423T190428
CREATED:20260421T164753Z
LAST-MODIFIED:20260421T164753Z
UID:5521-1777017600-1777044600@jobs.bostonchildrens.org
SUMMARY:New England Regional Black Nurse Association (NERBNA) Annual Conference
DESCRIPTION:Register for updated communication from the Boston Children’s Hospital recruitment team\, including profile enrichment opportunities for customized offerings. \nBoston Children’s Hospital is a proud sponsor of the National Black Nurse Association\, in partnership with the New England Regional board.  \nSearch current openings here – https://jobs.bostonchildrens.org/?addtnl_categories[]=Advanced%20Practice%20Provider&addtnl_categories[]=Nursing# \nRegister
URL:https://jobs.bostonchildrens.org/event/new-england-regional-black-nurse-association-nerbna-annual-conference/
LOCATION:Norwood\, MA\, Norwood\, Norwood\, Massachusetts\, United States
END:VEVENT
BEGIN:VEVENT
DTSTART;TZID=America/New_York:20260425T100000
DTEND;TZID=America/New_York:20260425T140000
DTSTAMP:20260423T190428
CREATED:20260423T174524Z
LAST-MODIFIED:20260423T174524Z
UID:5535-1777111200-1777125600@jobs.bostonchildrens.org
SUMMARY:Massachusetts Association of Surgical Technologists 2026 Conference
DESCRIPTION:Registration details confirm consent to receive updated communications from Boston Children’s Hospital Talent Network. \nSearch current Surgical Technologist and Central Processing roles now – Boston Children’s | Job Search Results \nRegister
URL:https://jobs.bostonchildrens.org/event/massachusetts-association-of-surgical-technologists-2026-conference/
LOCATION:Dedham\, MA\, Dedham\, Dedham\, Massachusetts\, United States
END:VEVENT
BEGIN:VEVENT
DTSTART;TZID=America/New_York:20260430T080000
DTEND;TZID=America/New_York:20260501T170000
DTSTAMP:20260423T190428
CREATED:20260423T194037Z
LAST-MODIFIED:20260423T194037Z
UID:5539-1777536000-1777654800@jobs.bostonchildrens.org
SUMMARY:HBCUconnect Annual Career Conference
DESCRIPTION:Registration confirms interest in customized talent communication updates from Boston Children’s Hospital. \nSearch remote and hybrid roles in Greater Boston here – Boston Children’s | Job Search Results \nRegister
URL:https://jobs.bostonchildrens.org/event/hbcuconnect-annual-career-conference/
LOCATION:Washington DC\, Washington\, Washington\, District of Columbia\, United States
END:VEVENT
BEGIN:VEVENT
DTSTART;TZID=America/New_York:20260507T130000
DTEND;TZID=America/New_York:20260507T170000
DTSTAMP:20260423T190428
CREATED:20260421T163953Z
LAST-MODIFIED:20260421T163953Z
UID:5518-1778158800-1778173200@jobs.bostonchildrens.org
SUMMARY:Latino Career Expo 2026
DESCRIPTION:Register to create a talent network profile and update your job preferences for communication updates from our recruitment team. This is not an official application. \nSearch current openings here – Boston Children’s Careers \nBoston Children’s Hospital is proud to partner with El Mundo Boston for the Annual Latino Career Expo! \nRegister
URL:https://jobs.bostonchildrens.org/event/latino-career-expo-2026/
LOCATION:Courtyard by Marriott Downtown Boston\, 275 Tremont St\, Boston\, Massachusetts\, 02116\, United States
END:VEVENT
BEGIN:VEVENT
DTSTART;TZID=America/New_York:20260517T110000
DTEND;TZID=America/New_York:20260518T150000
DTSTAMP:20260423T190428
CREATED:20260421T205329Z
LAST-MODIFIED:20260421T205329Z
UID:5524-1779015600-1779116400@jobs.bostonchildrens.org
SUMMARY:American Academy of Physician Associates (AAPA) PA JobSource
DESCRIPTION:Register for updates on Physician Assistant opportunities at Boston Children’s Hospital.  \nAPP Talent Representative\, Scott\, will be at our JobSource booth Sunday\, May 17th and Monday\, May 18th from 11a-2pm.  \nRegister
URL:https://jobs.bostonchildrens.org/event/american-academy-of-physician-associates-aapa-pa-jobsource/
LOCATION:New Orleans Ernest N. Morial Convention Center\, 900 Convention Center Blvd\, New Orleans\, Louisiana\, 70130\, United States
END:VEVENT
BEGIN:VEVENT
DTSTART;TZID=America/New_York:20260519T100000
DTEND;TZID=America/New_York:20260520T150000
DTSTAMP:20260423T190428
CREATED:20260421T210544Z
LAST-MODIFIED:20260421T210544Z
UID:5528-1779184800-1779289200@jobs.bostonchildrens.org
SUMMARY:2026 National Trauma Institute & Critical Care Expo (AACN)
DESCRIPTION:Registration confirms interest in receiving updates about Boston Children’s Hospital job opportunities in critical care nursing and advanced specializations.  \n-Advanced Practice Nurses \n-Registered Nurses \n-ECMO Specialists \n-Transport EMT/RNs \nSee current openings here – Boston Children’s | Job Search Results \nRegister
URL:https://jobs.bostonchildrens.org/event/2026-national-trauma-institute-critical-care-expo-aacn/
LOCATION:San Diego Conference Center\, San Diego\, San Diego\, California\, United States
END:VEVENT
END:VCALENDAR