BEGIN:VCALENDAR
VERSION:2.0
PRODID:-//Boston Children - ECPv6.15.12.2//NONSGML v1.0//EN
CALSCALE:GREGORIAN
METHOD:PUBLISH
X-WR-CALNAME:Boston Children
X-ORIGINAL-URL:https://jobs.bostonchildrens.org
X-WR-CALDESC:Events for Boston Children
REFRESH-INTERVAL;VALUE=DURATION:PT1H
X-Robots-Tag:noindex
X-PUBLISHED-TTL:PT1H
BEGIN:VTIMEZONE
TZID:America/New_York
BEGIN:DAYLIGHT
TZOFFSETFROM:-0500
TZOFFSETTO:-0400
TZNAME:EDT
DTSTART:20220313T070000
END:DAYLIGHT
BEGIN:STANDARD
TZOFFSETFROM:-0400
TZOFFSETTO:-0500
TZNAME:EST
DTSTART:20221106T060000
END:STANDARD
BEGIN:DAYLIGHT
TZOFFSETFROM:-0500
TZOFFSETTO:-0400
TZNAME:EDT
DTSTART:20230312T070000
END:DAYLIGHT
BEGIN:STANDARD
TZOFFSETFROM:-0400
TZOFFSETTO:-0500
TZNAME:EST
DTSTART:20231105T060000
END:STANDARD
BEGIN:DAYLIGHT
TZOFFSETFROM:-0500
TZOFFSETTO:-0400
TZNAME:EDT
DTSTART:20240310T070000
END:DAYLIGHT
BEGIN:STANDARD
TZOFFSETFROM:-0400
TZOFFSETTO:-0500
TZNAME:EST
DTSTART:20241103T060000
END:STANDARD
END:VTIMEZONE
BEGIN:VEVENT
DTSTART;TZID=America/New_York:20231103T080000
DTEND;TZID=America/New_York:20231103T160000
DTSTAMP:20260425T081847
CREATED:20231103T115012Z
LAST-MODIFIED:20231103T115012Z
UID:4064-1698998400-1699027200@jobs.bostonchildrens.org
SUMMARY:MAOT 2023 Annual Conference
DESCRIPTION:Boston Children’s Hospital will be attending the 2023 Massachusetts Association of Occupational Therapy Conference on Friday\, November 3rd 8:00 AM to 4:00 PM EST. \nWe will have representatives on site to discuss our open Occupational Therapist roles\, as well as answer any general questions you have about employment at Boston Children’s Hospital. We highly recommend you check out our Occupational Therapy Services page to learn more about the department as well preview any open positions on our Careers page! \nCan’t make it? No problem! If you’d still like to learn more about the roles we are hiring for\, please join our Talent Network by clicking the link above. From there\, you will be able to opt-in to job alerts. \nWe look forward to seeing you there!
URL:https://jobs.bostonchildrens.org/event/maot-2023-annual-conference-2/
LOCATION:1125 Boston-Providence Turnpike\, 1125 Boston-Providence Turnpike\, Norfolk County\, Massachusetts\, 02062\, United States
END:VEVENT
END:VCALENDAR