BEGIN:VCALENDAR
VERSION:2.0
PRODID:-//Boston Children - ECPv6.15.12.2//NONSGML v1.0//EN
CALSCALE:GREGORIAN
METHOD:PUBLISH
X-ORIGINAL-URL:https://jobs.bostonchildrens.org
X-WR-CALDESC:Events for Boston Children
REFRESH-INTERVAL;VALUE=DURATION:PT1H
X-Robots-Tag:noindex
X-PUBLISHED-TTL:PT1H
BEGIN:VTIMEZONE
TZID:UTC
BEGIN:STANDARD
TZOFFSETFROM:+0000
TZOFFSETTO:+0000
TZNAME:UTC
DTSTART:20210101T000000
END:STANDARD
END:VTIMEZONE
BEGIN:VEVENT
DTSTART;TZID=UTC:20221116T080000
DTEND;TZID=UTC:20221120T170000
DTSTAMP:20260425T112953
CREATED:20221120T090003Z
LAST-MODIFIED:20221120T090004Z
UID:3204-1668585600-1668963600@jobs.bostonchildrens.org
SUMMARY:APTA Pediatrics Annual Conference
DESCRIPTION:Boston Children’s Hospital will be in attendance at the 2022 APTA Pediatrics Annual Conference in Portland\, Oregon. Visit us at Booth #9 to learn about PT Opportunities at Boston Children’s Hospital. We look forward to seeing you there!  \nRegister directly with APTA at  www.pediatricapta.org/annualconference\n \n\n\nRegister Now
URL:https://jobs.bostonchildrens.org/event/apta-pediatrics-annual-conference/
LOCATION:APTA Pediatrics Annual Conference\, Hilton Portland Downtown\, Portland\, Oregon\, US
END:VEVENT
END:VCALENDAR