BEGIN:VCALENDAR
VERSION:2.0
PRODID:-//Boston Children - ECPv6.15.12.2//NONSGML v1.0//EN
CALSCALE:GREGORIAN
METHOD:PUBLISH
X-WR-CALNAME:Boston Children
X-ORIGINAL-URL:https://jobs.bostonchildrens.org
X-WR-CALDESC:Events for Boston Children
REFRESH-INTERVAL;VALUE=DURATION:PT1H
X-Robots-Tag:noindex
X-PUBLISHED-TTL:PT1H
BEGIN:VTIMEZONE
TZID:America/New_York
BEGIN:DAYLIGHT
TZOFFSETFROM:-0500
TZOFFSETTO:-0400
TZNAME:EDT
DTSTART:20230312T070000
END:DAYLIGHT
BEGIN:STANDARD
TZOFFSETFROM:-0400
TZOFFSETTO:-0500
TZNAME:EST
DTSTART:20231105T060000
END:STANDARD
BEGIN:DAYLIGHT
TZOFFSETFROM:-0500
TZOFFSETTO:-0400
TZNAME:EDT
DTSTART:20240310T070000
END:DAYLIGHT
BEGIN:STANDARD
TZOFFSETFROM:-0400
TZOFFSETTO:-0500
TZNAME:EST
DTSTART:20241103T060000
END:STANDARD
BEGIN:DAYLIGHT
TZOFFSETFROM:-0500
TZOFFSETTO:-0400
TZNAME:EDT
DTSTART:20250309T070000
END:DAYLIGHT
BEGIN:STANDARD
TZOFFSETFROM:-0400
TZOFFSETTO:-0500
TZNAME:EST
DTSTART:20251102T060000
END:STANDARD
END:VTIMEZONE
BEGIN:VEVENT
DTSTART;TZID=America/New_York:20240926T090000
DTEND;TZID=America/New_York:20240926T160000
DTSTAMP:20260424T190311
CREATED:20240822T172813Z
LAST-MODIFIED:20240822T172813Z
UID:4319-1727341200-1727366400@jobs.bostonchildrens.org
SUMMARY:Massachusetts Rehabilitation Commission 12th Annual Hiring Event
DESCRIPTION:Boston Children’s Hospital is proud to collaborate with the Massachusetts Rehabilitation Commission (MRC) and Office of Federal Contract Compliance Programs (OFCCP) at the 12th Annual Hiring event in Marlborough\, MA. Talent Acquisition and Workforce Development Specialists will be available to meet with qualified candidates for a variety of opportunities within our health system. \nFull time\, Part time\, Per diem roles including onsite\, hybrid\, and remote capabilities.
URL:https://jobs.bostonchildrens.org/event/massachusetts-rehabilitation-commission-12th-annual-hiring-event/
LOCATION:Best Western Royal Plaza Trade Center\, 181 Boston Post Rd W\, Marlborough\, 01752\, United States
END:VEVENT
END:VCALENDAR