BEGIN:VCALENDAR
VERSION:2.0
PRODID:-//Boston Children - ECPv6.15.12.2//NONSGML v1.0//EN
CALSCALE:GREGORIAN
METHOD:PUBLISH
X-ORIGINAL-URL:https://jobs.bostonchildrens.org
X-WR-CALDESC:Events for Boston Children
REFRESH-INTERVAL;VALUE=DURATION:PT1H
X-Robots-Tag:noindex
X-PUBLISHED-TTL:PT1H
BEGIN:VTIMEZONE
TZID:America/New_York
BEGIN:DAYLIGHT
TZOFFSETFROM:-0500
TZOFFSETTO:-0400
TZNAME:EDT
DTSTART:20240310T070000
END:DAYLIGHT
BEGIN:STANDARD
TZOFFSETFROM:-0400
TZOFFSETTO:-0500
TZNAME:EST
DTSTART:20241103T060000
END:STANDARD
BEGIN:DAYLIGHT
TZOFFSETFROM:-0500
TZOFFSETTO:-0400
TZNAME:EDT
DTSTART:20250309T070000
END:DAYLIGHT
BEGIN:STANDARD
TZOFFSETFROM:-0400
TZOFFSETTO:-0500
TZNAME:EST
DTSTART:20251102T060000
END:STANDARD
BEGIN:DAYLIGHT
TZOFFSETFROM:-0500
TZOFFSETTO:-0400
TZNAME:EDT
DTSTART:20260308T070000
END:DAYLIGHT
BEGIN:STANDARD
TZOFFSETFROM:-0400
TZOFFSETTO:-0500
TZNAME:EST
DTSTART:20261101T060000
END:STANDARD
BEGIN:DAYLIGHT
TZOFFSETFROM:-0500
TZOFFSETTO:-0400
TZNAME:EDT
DTSTART:20270314T070000
END:DAYLIGHT
BEGIN:STANDARD
TZOFFSETFROM:-0400
TZOFFSETTO:-0500
TZNAME:EST
DTSTART:20271107T060000
END:STANDARD
END:VTIMEZONE
BEGIN:VEVENT
DTSTART;TZID=America/New_York:20260223T170000
DTEND;TZID=America/New_York:20260226T190000
DTSTAMP:20260423T141830
CREATED:20260130T160941Z
LAST-MODIFIED:20260130T160941Z
UID:5349-1771866000-1772132400@jobs.bostonchildrens.org
SUMMARY:Research Recruitment Week 2026
DESCRIPTION:Boston Children’s Hospital\, named the #1 pediatric hospital in the U.S. by Newsweek\, is excited to host its 2026 Research Recruitment Week\, held February 23rd\, 2026 – February 26th\, 2026.  \nResearch Recruitment Week is an annual\, invite-only event that gives upcoming graduates the opportunity to meet directly with hiring managers and principal investigators across Boston Children’s Hospital’s research community. Participants are hand-selected based on their academic achievements\, interests\, and potential fit for research roles\, and invited to join either the in-person Networking Day or the virtual Networking Days.  \nEvent Overview:  \nMonday\, February 23rd\, 2026 | 5:00PM–6:00 PM EST – Opening Panel \nThe week begins with a virtual Opening Panel featuring insights and career journeys from distinguished researchers across Boston Children’s Hospital. All invited candidates—whether attending virtual or in-person networking days—are welcome to join. \nFeatured Panelist include:  \nSuneet Agarwal\, MD\, PHD  \n\nCo-Program Leader for the Stem Cell Transplant Center\, Dana Farber/Boston Children’s Cancer and Blood Disorders Center\nAssociate Professor of Pediatrics\, Harvard Medical School\nTeam Focus: The Agarwal Lab focuses on inherited and acquired genetic blood disorders. Dr. Suneet Agarwal’s work centers especially on disorders of telomere biology\, mitochondrial DNA disorders\, and bone marrow failure syndromes.\n\nCarolyn King\, MPH \n\nResearch Program Manager\, Division of General Pediatrics\nRepresenting General Pediatrics Research Program and Primary Care. Research and Quality Improvement topics include (but not limited to): Patient experience and safety\, healthcare quality\, care delivery for children with medical and social complexity\, population-level studies of environmental health\, social determinants of health in a primary care setting\, and social needs screening during hospitalizations.\n\nTuesday\, February 24th | 4:00PM–7:00 PM EST – In-Person Networking Day \nCandidates selected for the in-person session will visit our campus to meet directly with hiring managers\, principal investigators\, and current research staff. This day is designed to help participants explore roles\, learn about active research projects\, and make meaningful\, face-to-face connections. Please note that candidates invited to the in-person event must be able to travel to Boston Children’s Hospital at their own expense\, as travel accommodation is not provided. \nWednesday\, February 25th & Thursday\, February 26th | 4:00PM–7:00 PM EST – Virtual Networking Days \nCandidates invited to the virtual sessions will have the same opportunity as those attending the in-person Networking Day to meet directly with hiring managers\, principal investigators\, and current research staff—just in a remote\, online format. \n* Please note that the specific BCH staff and teams available for meetings may vary between the in-person and virtual sessions based on their availability. \nTo be considered for attendance\, you must: \n\nBe a recent or upcoming graduate in Winter 2025\, Spring 2026 or Summer 2026.\nReceiving a BA/BS in Biology\, Chemistry\, Neuroscience\, Life Sciences\, Health Sciences\, Social Sciences\, or a related field.\nInterest in working in Bench/Wet lab and/or Clinical Research. Prior experience is highly preferred.\n\nThe registration window to be considered for this event closed Friday\, January 30th\, 2026.  \nWe encourage students to join out Talent Community to stay up to date with entry level research openings. \nIf you have issues completing the form\, please email careers@childrens.harvard.edu \, with the subject line: RRW Interest Form Issue.  \n 
URL:https://jobs.bostonchildrens.org/event/research-recruitment-week-2026/
LOCATION:Boston Children’s Hospital\, Boston\, Boston\, Massachusetts\, United States
END:VEVENT
BEGIN:VEVENT
DTSTART;TZID=America/New_York:20251120T093000
DTEND;TZID=America/New_York:20251120T143000
DTSTAMP:20260423T141830
CREATED:20251023T172737Z
LAST-MODIFIED:20251023T172737Z
UID:5264-1763631000-1763649000@jobs.bostonchildrens.org
SUMMARY:EDGE4VETS Workshop
DESCRIPTION:Boston Children’s Hospital is proud to partner with the EDGE4VETS program to host the Fall Resume Workshop. Register through the link to reserve your opportunity to meet with a variety of partner companies and refine your job search. \nFall 2025 Edge4Vets Workshop in MA – Nov 20 Tickets\, Boston | Eventbrite
URL:https://jobs.bostonchildrens.org/event/edge4vets-workshop/
LOCATION:Boston Children’s Hospital\, Boston\, Boston\, Massachusetts\, United States
END:VEVENT
BEGIN:VEVENT
DTSTART;TZID=America/New_York:20250411T130000
DTEND;TZID=America/New_York:20250411T160000
DTSTAMP:20260423T141830
CREATED:20250310T150737Z
LAST-MODIFIED:20250310T150737Z
UID:4535-1744376400-1744387200@jobs.bostonchildrens.org
SUMMARY:Patient Experience Representative (PER) On-site Hiring Event
DESCRIPTION:Boston Children’s Hospital Talent Acquisition team is excited to host an on-site hiring event for Business and Administrative professionals interested in becoming a Patient Experience Representative (PER) on Friday\, April 11th\, 2025\, from 1p-4p. During the event\, pre-qualified candidates will be invited to meet with hiring managers and learn more about the crucial impact administrative support plays in our daily operations.  \nWhat is the patient experience and why does it matter?For our patients and families\, the Boston Children’s Experience encompasses your entire healthcare journey – from their first phone call or visit to our website\, compassionate\, family-centered care in our clinics\, satellites or inpatient programs\, and keeping in touch after they’ve gone home.  \nExperience is about more than care. It’s about the engagement of our employees\, collaborations with referring providers\, ease of access and scheduling\, and so much more.  \nInterested in learning more? Register and submit your resume for review with our recruitment team.
URL:https://jobs.bostonchildrens.org/event/patient-experience-rep-per-on-site-hiring-event/
LOCATION:Boston Children’s Hospital\, Boston\, Boston\, Massachusetts\, United States
END:VEVENT
END:VCALENDAR