BEGIN:VCALENDAR
VERSION:2.0
PRODID:-//Boston Children - ECPv6.15.12.2//NONSGML v1.0//EN
CALSCALE:GREGORIAN
METHOD:PUBLISH
X-WR-CALNAME:Boston Children
X-ORIGINAL-URL:https://jobs.bostonchildrens.org
X-WR-CALDESC:Events for Boston Children
REFRESH-INTERVAL;VALUE=DURATION:PT1H
X-Robots-Tag:noindex
X-PUBLISHED-TTL:PT1H
BEGIN:VTIMEZONE
TZID:UTC
BEGIN:STANDARD
TZOFFSETFROM:+0000
TZOFFSETTO:+0000
TZNAME:UTC
DTSTART:20210101T000000
END:STANDARD
END:VTIMEZONE
BEGIN:VEVENT
DTSTART;TZID=UTC:20220603T130048
DTEND;TZID=UTC:20220603T170000
DTSTAMP:20260423T193300
CREATED:20220603T181503Z
LAST-MODIFIED:20220603T181503Z
UID:3071-1654261248-1654275600@jobs.bostonchildrens.org
SUMMARY:El Mundo Latino Career Expo
DESCRIPTION:Boston Children’s Hospital will be exhibiting at the El Mundo Latino Career Expo on June 3rd. The event will be at the Marriott Boston Downtown from 1pm-5pm. \nInterested candidates should register via El Mundo:  https://www.latinocareerexpo.com/ \nWe hope to see you there!  \n\n\nRegister Now
URL:https://jobs.bostonchildrens.org/event/el-mundo-latino-career-expo/
LOCATION:El Mundo Latino Career Expo\, 275 Tremont St\, Boston\, Massachusetts\, US
END:VEVENT
END:VCALENDAR