BEGIN:VCALENDAR
VERSION:2.0
PRODID:-//Boston Children - ECPv6.15.12.2//NONSGML v1.0//EN
CALSCALE:GREGORIAN
METHOD:PUBLISH
X-ORIGINAL-URL:https://jobs.bostonchildrens.org
X-WR-CALDESC:Events for Boston Children
REFRESH-INTERVAL;VALUE=DURATION:PT1H
X-Robots-Tag:noindex
X-PUBLISHED-TTL:PT1H
BEGIN:VTIMEZONE
TZID:UTC
BEGIN:STANDARD
TZOFFSETFROM:+0000
TZOFFSETTO:+0000
TZNAME:UTC
DTSTART:20210101T000000
END:STANDARD
END:VTIMEZONE
BEGIN:VEVENT
DTSTART;TZID=UTC:20221018T090000
DTEND;TZID=UTC:20221019T180000
DTSTAMP:20260425T113015
CREATED:20221019T090004Z
LAST-MODIFIED:20221019T090004Z
UID:3224-1666083600-1666202400@jobs.bostonchildrens.org
SUMMARY:Environmental Services Hiring Event Onsite
DESCRIPTION:Boston Children’s Hospital will be hosting an on-site hiring event for Environmental Services roles on October 18th from 9am-1pm and October19th from 2pm-6pm. Pre-registration is requested. \nOn-the-spot interviews will be conducted for the following roles: \n– ESD Assistant \n– Floor Care Tech \n– Waste Processor \n– Operating Room Assistant \n– ESD Lead \nView the full job descriptions here: https://jobs.bostonchildrens.org/job-search-results/?keyword=environmental%20service \n \nWe look forward to seeing you there!  \n\n\nRegister Now
URL:https://jobs.bostonchildrens.org/event/environmental-services-hiring-event-onsite/
LOCATION:Environmental Services Hiring Event Onsite\, 300 Longwood Avenue\, Boston\, Massachusetts\, US
END:VEVENT
END:VCALENDAR