BEGIN:VCALENDAR
VERSION:2.0
PRODID:-//Boston Children - ECPv6.15.12.2//NONSGML v1.0//EN
CALSCALE:GREGORIAN
METHOD:PUBLISH
X-ORIGINAL-URL:https://jobs.bostonchildrens.org
X-WR-CALDESC:Events for Boston Children
REFRESH-INTERVAL;VALUE=DURATION:PT1H
X-Robots-Tag:noindex
X-PUBLISHED-TTL:PT1H
BEGIN:VTIMEZONE
TZID:UTC
BEGIN:STANDARD
TZOFFSETFROM:+0000
TZOFFSETTO:+0000
TZNAME:UTC
DTSTART:20210101T000000
END:STANDARD
END:VTIMEZONE
BEGIN:VEVENT
DTSTART;TZID=UTC:20221028T070000
DTEND;TZID=UTC:20221028T160000
DTSTAMP:20260425T172208
CREATED:20221028T120018Z
LAST-MODIFIED:20221028T120019Z
UID:3203-1666940400-1666972800@jobs.bostonchildrens.org
SUMMARY:Massachusetts Association of Occupational Therapy
DESCRIPTION:Boston Children’s Hospital will be in attendance at the Massachusetts Association of Occupational Therapy Annual Conference on October 28th. Participants should register directly with MAOT (http://www.maot.org/). Please stop by our table to learn more about OT opportunities at BCH\, we look forward to seeing you there!  \n\n\nRegister Now
URL:https://jobs.bostonchildrens.org/event/massachusetts-association-of-occupational-therapy/
LOCATION:Massachusetts Association of Occupational Therapy\, Four Points by Sheraton\, Norwood\, Massachusetts\, US
END:VEVENT
END:VCALENDAR